BEGIN:VCALENDAR
VERSION:2.0
PRODID:-//GOBs Tennis - ECPv6.15.20//NONSGML v1.0//EN
CALSCALE:GREGORIAN
METHOD:PUBLISH
X-WR-CALNAME:GOBs Tennis
X-ORIGINAL-URL:https://gobs-tennis.com
X-WR-CALDESC:Events for GOBs Tennis
REFRESH-INTERVAL;VALUE=DURATION:PT1H
X-Robots-Tag:noindex
X-PUBLISHED-TTL:PT1H
BEGIN:VTIMEZONE
TZID:America/New_York
BEGIN:DAYLIGHT
TZOFFSETFROM:-0500
TZOFFSETTO:-0400
TZNAME:EDT
DTSTART:20250309T070000
END:DAYLIGHT
BEGIN:STANDARD
TZOFFSETFROM:-0400
TZOFFSETTO:-0500
TZNAME:EST
DTSTART:20251102T060000
END:STANDARD
BEGIN:DAYLIGHT
TZOFFSETFROM:-0500
TZOFFSETTO:-0400
TZNAME:EDT
DTSTART:20260308T070000
END:DAYLIGHT
BEGIN:STANDARD
TZOFFSETFROM:-0400
TZOFFSETTO:-0500
TZNAME:EST
DTSTART:20261101T060000
END:STANDARD
BEGIN:DAYLIGHT
TZOFFSETFROM:-0500
TZOFFSETTO:-0400
TZNAME:EDT
DTSTART:20270314T070000
END:DAYLIGHT
BEGIN:STANDARD
TZOFFSETFROM:-0400
TZOFFSETTO:-0500
TZNAME:EST
DTSTART:20271107T060000
END:STANDARD
END:VTIMEZONE
BEGIN:VEVENT
DTSTART;TZID=America/New_York:20260422T100000
DTEND;TZID=America/New_York:20260422T130000
DTSTAMP:20260422T171112
CREATED:20260407T210548Z
LAST-MODIFIED:20260407T210548Z
UID:22165-1776852000-1776862800@gobs-tennis.com
SUMMARY:Belle Haven Club
DESCRIPTION:
URL:https://gobs-tennis.com/date/belle-haven-club-5/
LOCATION:Belle Haven Club\, 100 Harbor Drive\, Greenwich\, CT\, 06830\, United States
END:VEVENT
BEGIN:VEVENT
DTSTART;TZID=America/New_York:20260424T090000
DTEND;TZID=America/New_York:20260424T120000
DTSTAMP:20260422T171112
CREATED:20260407T210542Z
LAST-MODIFIED:20260407T210542Z
UID:22163-1777021200-1777032000@gobs-tennis.com
SUMMARY:New Canaan Field Club
DESCRIPTION:
URL:https://gobs-tennis.com/date/new-canaan-field-club-25/
LOCATION:New Canaan Field Club\, 164 Smith Ridge Rd\, New Canaan\, CT\, 06840\, United States
END:VEVENT
BEGIN:VEVENT
DTSTART;TZID=America/New_York:20260427T130000
DTEND;TZID=America/New_York:20260427T160000
DTSTAMP:20260422T171112
CREATED:20260407T210541Z
LAST-MODIFIED:20260407T210541Z
UID:22162-1777294800-1777305600@gobs-tennis.com
SUMMARY:Woodway County Club
DESCRIPTION:
URL:https://gobs-tennis.com/date/woodway-county-club/
LOCATION:CT
END:VEVENT
BEGIN:VEVENT
DTSTART;TZID=America/New_York:20260429T100000
DTEND;TZID=America/New_York:20260429T130000
DTSTAMP:20260422T171112
CREATED:20260407T210539Z
LAST-MODIFIED:20260407T210539Z
UID:22161-1777456800-1777467600@gobs-tennis.com
SUMMARY:Milbrook Club
DESCRIPTION:
URL:https://gobs-tennis.com/date/milbrook-club-15/
LOCATION:Milbrook Club\, 61 Woodside Dr\, Greenwich\, CT\, 06830\, United States
END:VEVENT
END:VCALENDAR